BEGIN:VCALENDAR
VERSION:2.0
PRODID:-//Tukios.com/
BEGIN:VEVENT
UID:90c1bec7-5ab2-4fc7-b0d8-e4682f74b58e@www.johnsonhagglund.com
DTSTAMP:20260421T214721Z
DTSTART:20260501T190000Z
DTEND:20260502T010000Z
SUMMARY:Celebration of Life
DESCRIPTION:
URL:https://www.johnsonhagglund.com/obituaries/chris-griggs
LOCATION:Atwater Community Center 107 2nd Street North  Atwater MN 56209
GEO:45.138224;-94.7793278
END:VEVENT
END:VCALENDAR