BEGIN:VCALENDAR
VERSION:2.0
PRODID:-//Tukios.com/
BEGIN:VEVENT
UID:bc4fd038-0b82-4788-b475-5812b4813827@www.johnsonhagglund.com
DTSTAMP:20260419T204406Z
DTSTART:20260423T210000Z
DTEND:20260423T213000Z
SUMMARY:Funeral Service
DESCRIPTION:
URL:https://www.johnsonhagglund.com/obituaries/gordy-henderson
LOCATION: 125 S Armstrong Ave  Litchfield MN 55355
GEO:45.1258871;-94.5230696
END:VEVENT
END:VCALENDAR