BEGIN:VCALENDAR
VERSION:2.0
PRODID:-//Tukios.com/
BEGIN:VEVENT
UID:22aa9f41-e7a5-432c-b7da-59ab35d89d30@www.johnsonhagglund.com
DTSTAMP:20260419T204551Z
DTSTART:20260423T213000Z
DTEND:20260424T000000Z
SUMMARY:Visitation with Family
DESCRIPTION:
URL:https://www.johnsonhagglund.com/obituaries/gordy-henderson
LOCATION: 125 S Armstrong Ave  Litchfield MN 55355
GEO:45.1258871;-94.5230696
END:VEVENT
END:VCALENDAR