BEGIN:VCALENDAR
VERSION:2.0
PRODID:-//Tukios.com/
BEGIN:VEVENT
UID:c3ec354d-27c2-4948-8bb2-34c53de21a9e@www.johnsonhagglund.com
DTSTAMP:20260420T190653Z
DTSTART:20260502T170000Z
DTEND:20260502T180000Z
SUMMARY:Memorial Service
DESCRIPTION:
URL:https://www.johnsonhagglund.com/obituaries/john-schmidt
LOCATION:Zion Lutheran Church 504 N Gilman Ave  Litchfield MN 55355
GEO:45.131732;-94.5182618
END:VEVENT
END:VCALENDAR