BEGIN:VCALENDAR
VERSION:2.0
PRODID:-//Tukios.com/
BEGIN:VEVENT
UID:db3a25d4-0844-4d33-8110-cdfb670877ac@www.johnsonhagglund.com
DTSTAMP:20260420T190713Z
DTSTART:20260502T160000Z
DTEND:20260502T170000Z
SUMMARY:Visitation
DESCRIPTION:
URL:https://www.johnsonhagglund.com/obituaries/john-schmidt
LOCATION:Zion Lutheran Church 504 N Gilman Ave  Litchfield MN 55355
GEO:45.131732;-94.5182618
END:VEVENT
END:VCALENDAR